BEGIN:VCALENDAR
VERSION:2.0
PRODID:-//Department Of Education//d7e228d0-d67d-4bef-806d-529901d3a18f
BEGIN:VTIMEZONE
TZID:Australia/Sydney
TZURL:http://tzurl.org/zoneinfo-outlook/Australia/Sydney
X-LIC-LOCATION:Australia/Sydney
BEGIN:STANDARD
TZOFFSETFROM:+1100
TZOFFSETTO:+1000
TZNAME:AEST
DTSTART:19700405T030000
RRULE:FREQ=YEARLY;BYMONTH=4;BYDAY=1SU
END:STANDARD
BEGIN:DAYLIGHT
TZOFFSETFROM:+1000
TZOFFSETTO:+1100
TZNAME:AEDT
DTSTART:19701004T020000
RRULE:FREQ=YEARLY;BYMONTH=10;BYDAY=1SU
END:DAYLIGHT
END:VTIMEZONE
CALSCALE:GREGORIAN
X-WR-TIMEZONE:Australia/Sydney
BEGIN:VEVENT
DTSTART;TZID=Australia/Sydney:20200409T130049
DTEND;TZID=Australia/Sydney:20200409T135058
DTSTAMP:20200409T000000Z
UID:4cb109cc-73b9-4245-bac2-5550b6b9dc9e
LOCATION:Gloucester Public School Hall
SUMMARY;LANGUAGE=en-us:K-2 Expectation Assembly
SEQUENCE:0
DESCRIPTION:Term 1 Expectation Assembly
END:VEVENT
TRANSP:TRANSPARENT
END:VCALENDAR
