BEGIN:VCALENDAR
VERSION:2.0
PRODID:-//Department Of Education//a045ff40-63fa-4d63-81da-12c7e884a4bb
BEGIN:VTIMEZONE
TZID:Australia/Sydney
TZURL:http://tzurl.org/zoneinfo-outlook/Australia/Sydney
X-LIC-LOCATION:Australia/Sydney
BEGIN:STANDARD
TZOFFSETFROM:+1100
TZOFFSETTO:+1000
TZNAME:AEST
DTSTART:19700405T030000
RRULE:FREQ=YEARLY;BYMONTH=4;BYDAY=1SU
END:STANDARD
BEGIN:DAYLIGHT
TZOFFSETFROM:+1000
TZOFFSETTO:+1100
TZNAME:AEDT
DTSTART:19701004T020000
RRULE:FREQ=YEARLY;BYMONTH=10;BYDAY=1SU
END:DAYLIGHT
END:VTIMEZONE
CALSCALE:GREGORIAN
X-WR-TIMEZONE:Australia/Sydney
BEGIN:VEVENT
DTSTART;TZID=Australia/Sydney:20200403T130012
DTEND;TZID=Australia/Sydney:20200403T135024
DTSTAMP:20200403T000000Z
UID:98b54015-2123-4f3d-ae77-347b4c13b268
LOCATION:Gloucester Public School Hall
SUMMARY;LANGUAGE=en-us:K-2 Assembly
SEQUENCE:0
DESCRIPTION:Assembly
END:VEVENT
TRANSP:TRANSPARENT
END:VCALENDAR
