BEGIN:VCALENDAR
VERSION:2.0
PRODID:-//Department Of Education//d915b0c6-98fb-4959-98a0-885b18af8782
BEGIN:VTIMEZONE
TZID:Australia/Sydney
TZURL:http://tzurl.org/zoneinfo-outlook/Australia/Sydney
X-LIC-LOCATION:Australia/Sydney
BEGIN:STANDARD
TZOFFSETFROM:+1100
TZOFFSETTO:+1000
TZNAME:AEST
DTSTART:19700405T030000
RRULE:FREQ=YEARLY;BYMONTH=4;BYDAY=1SU
END:STANDARD
BEGIN:DAYLIGHT
TZOFFSETFROM:+1000
TZOFFSETTO:+1100
TZNAME:AEDT
DTSTART:19701004T020000
RRULE:FREQ=YEARLY;BYMONTH=10;BYDAY=1SU
END:DAYLIGHT
END:VTIMEZONE
CALSCALE:GREGORIAN
X-WR-TIMEZONE:Australia/Sydney
BEGIN:VEVENT
DTSTART;TZID=Australia/Sydney:20200403T140052
DTEND;TZID=Australia/Sydney:20200403T145035
DTSTAMP:20200403T000000Z
UID:c2a431ae-791b-4c1f-a5e8-fba3f99c3a17
LOCATION:Gloucester Public School Hall
SUMMARY;LANGUAGE=en-us:3-6 Assembly
SEQUENCE:0
DESCRIPTION:Assembly
END:VEVENT
TRANSP:TRANSPARENT
END:VCALENDAR
